BEGIN:VCALENDAR
VERSION:2.0
PRODID:-//Městská knihovna Orlová - ECPv4.4.5//NONSGML v1.0//EN
CALSCALE:GREGORIAN
METHOD:PUBLISH
X-WR-CALNAME:Městská knihovna Orlová
X-ORIGINAL-URL:https://mko.knihovna-orlova.cz
X-WR-CALDESC:Events for Městská knihovna Orlová
BEGIN:VEVENT
DTSTART;TZID=UTC+1:20241003T080000
DTEND;TZID=UTC+1:20241126T180000
DTSTAMP:20260421T142108
CREATED:20241003T114700Z
LAST-MODIFIED:20241003T114700Z
UID:20338-1727942400-1732644000@mko.knihovna-orlova.cz
SUMMARY:Výstava
DESCRIPTION:\n\n\n\n\n\n\n\n\n\n\n\n\n3. 10. 2024 až 26. 11. 2024\nVýstava – 17. listopad v českých dějinách 20. století (1939\, 1989)\nDen boje za svobodu a demokracii a Mezinárodní den studentstva je státní svátek České republiky. Slaví se každoročně 17. listopadu jako připomenutí dvou událostí moderních českých dějin\, spojených se studenty českých vysokých škol.  \nObrázky budou vystaveny v minigalerii na schodišti.\nOtevírací doba: Po\, Út\, Čt\, Pá: 8:00 – 18:00 hodin\n                                                  St: zavřeno\n                                                  So: 8:00 – 12:00 hodin\nVstupné: zdarma\nInformace: 596 511 306\, prodejna@knihovna-orlova.cz\n\n\n\n\n\n\n\n\n\n\n\n\n
URL:https://mko.knihovna-orlova.cz/event/vystava-13/
LOCATION:Orlová
END:VEVENT
BEGIN:VEVENT
DTSTART;TZID=UTC+1:20241010T170000
DTEND;TZID=UTC+1:20241010T183000
DTSTAMP:20260421T142108
CREATED:20240822T091730Z
LAST-MODIFIED:20240822T091730Z
UID:20175-1728579600-1728585000@mko.knihovna-orlova.cz
SUMMARY:Irsko
DESCRIPTION:10. 10. 2024\n17:00 hodin\nIrsko\nCestovatelská beseda\nOstrov Irsko na první pohled nijak nevyčnívá\, není největší\, nemá mrakodrapy ani velehory. Kdo však v této zemi byl\, propadl jejímu kouzlu. Země tisíců odstínů zelené\, keltských křížů a divokého pobřeží pamatuje mnohé. Veselá a skromná duše Irů dodnes nese šrámy kruté minulosti se kterou ostře kontrastuje současná prosperita.\nPřednáší: Jan Husák\nBez nutnosti rezervace.\nVstupné: 30 Kč\nMěstská knihovna Orlová\, přednáškový sál (2. patro).\nInformace: 596 522 449\, studovna@knihovna-orlova.cz\, www.husynacestach.cz
URL:https://mko.knihovna-orlova.cz/event/irsko/
END:VEVENT
END:VCALENDAR