BEGIN:VCALENDAR
VERSION:2.0
PRODID:-//Městská knihovna Orlová - ECPv4.4.5//NONSGML v1.0//EN
CALSCALE:GREGORIAN
METHOD:PUBLISH
X-WR-CALNAME:Městská knihovna Orlová
X-ORIGINAL-URL:https://mko.knihovna-orlova.cz
X-WR-CALDESC:Events for Městská knihovna Orlová
BEGIN:VEVENT
DTSTART;VALUE=DATE:20250703
DTEND;VALUE=DATE:20250902
DTSTAMP:20260425T124846
CREATED:20250616T091619Z
LAST-MODIFIED:20250616T091619Z
UID:21394-1751500800-1756857599@mko.knihovna-orlova.cz
SUMMARY:Výstava – Erich Bura
DESCRIPTION:\n\n\n3. 7. 2025 až 2. 9. 2025\nLáska na celý život\nVýstava – Erich Bura\nObrázky budou vystaveny v minigalerii na schodišti.\nOtevírací doba: Po\, Út\, Čt\, Pá: 8:00 – 17:00 hodin\n                                                  St: zavřeno\nVstupné: zdarma\nInformace: 596 511 306\, prodejna@knihovna-orlova.cz\n\n\n
URL:https://mko.knihovna-orlova.cz/event/vystava-erich-bura/
END:VEVENT
BEGIN:VEVENT
DTSTART;TZID=UTC+1:20250828T150000
DTEND;TZID=UTC+1:20250828T160000
DTSTAMP:20260425T124846
CREATED:20250616T100105Z
LAST-MODIFIED:20250616T100105Z
UID:21401-1756393200-1756396800@mko.knihovna-orlova.cz
SUMMARY:Setkání pisálků
DESCRIPTION:\n\n\n\n\n\n\n28. 8. 2025\n15:00 hodin\nSetkání pisálků\nSrdečně Vás zveme na sraz orlovských pisálků. Setkání povede autorka Hana Nivnická.\nUrčeno pro všechny věkové kategorie.\nVstupné: zdarma\nPřednáškový sál – Městská knihovna Orlová (2. patro).\nInformace: 596 522 449\, knihovna@knihovna-orlova.cz\n\n\n\n\n\n\n
URL:https://mko.knihovna-orlova.cz/event/setkani-pisalku-40/
ORGANIZER;CN="M%C4%9Bstsk%C3%A1%20knihovna%20Orlov%C3%A1":MAILTO:detska.knihovna@knihovna-orlova.cz
END:VEVENT
END:VCALENDAR