BEGIN:VCALENDAR
VERSION:2.0
PRODID:-//Městská knihovna Orlová - ECPv4.4.5//NONSGML v1.0//EN
CALSCALE:GREGORIAN
METHOD:PUBLISH
X-WR-CALNAME:Městská knihovna Orlová
X-ORIGINAL-URL:https://mko.knihovna-orlova.cz
X-WR-CALDESC:Events for Městská knihovna Orlová
BEGIN:VEVENT
DTSTART;VALUE=DATE:20250904
DTEND;VALUE=DATE:20251028
DTSTAMP:20260422T005921
CREATED:20250814T085310Z
LAST-MODIFIED:20251120T102031Z
UID:21490-1756944000-1761695999@mko.knihovna-orlova.cz
SUMMARY:Výstava - SONS
DESCRIPTION:\n\n\n4. 9. 2025 až 28. 10. 2025\nSilja Korn\nVýstava – SONS (Sjednocená organizace nevidomých a slabozrakých České republiky)\nObrázky budou vystaveny v minigalerii na schodišti.\nOtevírací doba: Po\, Út\, Čt\, Pá: 8:00 – 18:00 hodin\n                                                  St: zavřeno\nVstupné: zdarma\nInformace: 596 511 306\, prodejna@knihovna-orlova.cz\n\n\n
URL:https://mko.knihovna-orlova.cz/event/vystava-18/
END:VEVENT
BEGIN:VEVENT
DTSTART;TZID=UTC+1:20250925T160000
DTEND;TZID=UTC+1:20250925T170000
DTSTAMP:20260422T005921
CREATED:20250728T071626Z
LAST-MODIFIED:20250728T071626Z
UID:21459-1758816000-1758819600@mko.knihovna-orlova.cz
SUMMARY:Setkání pisálků
DESCRIPTION:\n\n\n\n\n\n\n25. 9. 2025\n16:00 hodin\nSetkání pisálků\nSrdečně Vás zveme na sraz orlovských pisálků. Setkání povede autorka Hana Nivnická.\nUrčeno pro všechny věkové kategorie.\nVstupné: zdarma\nPřednáškový sál – Městská knihovna Orlová (2. patro).\nInformace: 596 522 449\, knihovna@knihovna-orlova.cz\n\n\n\n\n\n\n
URL:https://mko.knihovna-orlova.cz/event/setkani-pisalku-42/
LOCATION:Masarykova 1324\, Orlová\, Moravskoslezský\, 73514\, Česká republika
ORGANIZER;CN="M%C4%9Bstsk%C3%A1%20knihovna%20Orlov%C3%A1":MAILTO:detska.knihovna@knihovna-orlova.cz
END:VEVENT
BEGIN:VEVENT
DTSTART;TZID=UTC+1:20250925T170000
DTEND;TZID=UTC+1:20250925T190000
DTSTAMP:20260422T005921
CREATED:20250814T074131Z
LAST-MODIFIED:20250814T074131Z
UID:21479-1758819600-1758826800@mko.knihovna-orlova.cz
SUMMARY:Polsko
DESCRIPTION:\n\n\n\n\n\n\n25. 9. 2025\n17:00 hodin\nPolsko\nAtraktivní dovolenková destinace nebo ultrakonzervativní mordor?\nPřednáší: Vít Dostál –  Asociace pro mezinárodní otázky (AMO)\nTradiční stereotypní česká představa o Polsku se pojí se zemí chudou\, konzervativní\, nemoderní a plnou produktů pochybné kvality. Zároveň ale česká společnost začíná Polsko objevovat jako atraktivní turistickou destinaci a stále více je toho možné slyšet o rozvoji polského hospodářství.\nStane se Polsko lídrem (nejen) střední Evropy? A může na evropské půdě někdy předčít silné hráče\, jako je Německo a Francie? Jaké je tady Polsko dnes? Jak se proměňuje společnost\, jak se mu daří hospodářsky\, jakou má pozici v mezinárodní a evropské politice? A proč jsou Češi pro Poláky nejoblíbenějším národem?\nVít Dostál je výkonným ředitelem AMO\, odborně se zaměřuje na českou zahraniční a evropskou politiku\, středoevropskou spolupráci\na polskou zahraniční a vnitřní politiku.\nVít s Asociací spolupracuje od roku 2006\, je členem AMO. Je autorem a editorem řady publikací věnovaných české zahraniční politice a střední Evropě. Vystupuje na konferencích a v médiích.\nV roce 2017 ukončil dizertační prací na téma „Paradiplomacie českých krajů“ doktorský program Evropských studií na Masarykově univerzitě v Brně. Absolvoval studijní a pracovní stáže ve Varšavě a Bruselu.\nVstupné: zdarma\nPřednáškový sál – Městská knihovna Orlová (2. patro).\nInformace: 596 522 449\, knihovna@knihovna-orlova.cz\, www.amo.cz\n\n\n\n\n\n\n
URL:https://mko.knihovna-orlova.cz/event/polsko/
LOCATION:Orlová
END:VEVENT
END:VCALENDAR