BEGIN:VCALENDAR
VERSION:2.0
PRODID:-//Městská knihovna Orlová - ECPv4.4.5//NONSGML v1.0//EN
CALSCALE:GREGORIAN
METHOD:PUBLISH
X-WR-CALNAME:Městská knihovna Orlová
X-ORIGINAL-URL:https://mko.knihovna-orlova.cz
X-WR-CALDESC:Events for Městská knihovna Orlová
BEGIN:VEVENT
DTSTART;TZID=UTC+1:20260309T093000
DTEND;TZID=UTC+1:20260309T113000
DTSTAMP:20260425T235027
CREATED:20260219T093615Z
LAST-MODIFIED:20260219T095542Z
UID:22243-1773048600-1773055800@mko.knihovna-orlova.cz
SUMMARY:Jarní květináčky
DESCRIPTION:9. 3. 2026 \n9:30 hodin\nJarní květináčky\nTvořivé dílny pro seniory\nVytvoříme si zdobené květináčky ubrouskovou technikou (decoupage)\, po zaschnutí si účastníci květináček osadí jarními cibulovinami. Během tvoření si povíme něco o jarních tradicích v naší historii\, účastníci si procvičí jemnou motoriku – natírání\, vystřihování motivů\, lepení. Každý z účastníků si odnese vlastní originální květináček\, který mu díky jarním květinám bude dělat radost ještě řadu dní.\nMaximálně 15 účastníků. Nutná rezervace v Městském informačním centru.\nVstupné: zdarma\nUrčeno pro seniory + 60 let.\nMěstská knihovna Orlová\, Život plus senior\, (2. patro)\nprodejna@knihovna-orlova.cz\, 596 511 306
URL:https://mko.knihovna-orlova.cz/event/jarni-kvetinacky/
LOCATION:Masarykova 1324\, Orlová\, Moravskoslezský\, 73514\, Česká republika
END:VEVENT
END:VCALENDAR