BEGIN:VCALENDAR
VERSION:2.0
PRODID:-//Městská knihovna Orlová - ECPv4.4.5//NONSGML v1.0//EN
CALSCALE:GREGORIAN
METHOD:PUBLISH
X-WR-CALNAME:Městská knihovna Orlová
X-ORIGINAL-URL:https://mko.knihovna-orlova.cz
X-WR-CALDESC:Events for Městská knihovna Orlová
BEGIN:VEVENT
DTSTART;TZID=UTC+1:20260528T100000
DTEND;TZID=UTC+1:20260528T113000
DTSTAMP:20260425T234228
CREATED:20260326T130652Z
LAST-MODIFIED:20260326T130652Z
UID:22416-1779962400-1779967800@mko.knihovna-orlova.cz
SUMMARY:Kurz oční jógy
DESCRIPTION:9. 4. až 28. 5. 2026\nčtvrtky 10:00 hodin\nKurz oční jógy\noči v kondici\nZlepšování kondice zraku přirozenou cestou.\nHravou formou a v jemnosti si ukážeme\, jak můžete ovlivnit kondici vašeho zraku.\nUnavené oči berou energii\, uvolněný pohled ji vrací.\nPro koho je kurz určen? Pro všechny\, kdo tráví hodně času u obrazovek\, kdo cítí jakékoli nepohodlí (únavu\, pálení\, řezání) v očích nebo pro ty\, kdo chtějí zlepšit péči o svůj nejvytíženější smysl – zrak.\nKurz povede Mgr. Ing. Lucie Prošková – certifikovaná lektorka oční jógy a celostních metod přirozeného zlepšování kondice zraku. Farmaceutka a lektorka jógy smíchu.\nMinimálně 5 účastníků. Nutná rezervace v Městském informačním centru.\nKurzovné: 2390 Kč\nMěstská knihovna Orlová\, přednáškový sál (2. patro).\nInformace: prodejna@knihovna-orlova.cz\, 596 511 306
URL:https://mko.knihovna-orlova.cz/event/kurz-ocni-jogy-8/
END:VEVENT
BEGIN:VEVENT
DTSTART;TZID=UTC+1:20260528T140000
DTEND;TZID=UTC+1:20260528T170000
DTSTAMP:20260425T234228
CREATED:20260421T112628Z
LAST-MODIFIED:20260421T112628Z
UID:22509-1779976800-1779987600@mko.knihovna-orlova.cz
SUMMARY:Světový den her
DESCRIPTION:28. 5. 2026\n14:00 až 17:00 hodin\nSvětový den her\n\nPřijďte s námi oslavit Světový den her do knihovny! Připravili jsme odpoledne plné zábavy\, smíchu a soutěžení\, při kterém si děti i dospělí mohou vyzkoušet různé deskové hry\, které u nás v knihovně máme.\nDěti mohou přijít samy\, s rodiči\, kamarády nebo sourozenci – každý si najde něco pro sebe. Naše knihovnice s radostí vysvětlí pravidla her a ráda se i přidá do hry.\nJe to skvělá příležitost objevit\, že knihovna není jen o knihách\, ale také o hraní a zábavě.\nVstupné: 50 Kč\nMěstská knihovna Orlová\, oddělení pro děti a mládež\nInformace: 596 522 449\, detska.knihovna@knihovna-orlova.cz
URL:https://mko.knihovna-orlova.cz/event/svetovy-den-her/
ORGANIZER;CN="M%C4%9Bstsk%C3%A1%20knihovna%20Orlov%C3%A1":MAILTO:detska.knihovna@knihovna-orlova.cz
END:VEVENT
END:VCALENDAR