BEGIN:VCALENDAR
VERSION:2.0
PRODID:-//Městská knihovna Orlová - ECPv4.4.5//NONSGML v1.0//EN
CALSCALE:GREGORIAN
METHOD:PUBLISH
X-WR-CALNAME:Městská knihovna Orlová
X-ORIGINAL-URL:https://mko.knihovna-orlova.cz
X-WR-CALDESC:Events for Městská knihovna Orlová
BEGIN:VEVENT
DTSTART;VALUE=DATE:20260312
DTEND;VALUE=DATE:20260428
DTSTAMP:20260419T175058
CREATED:20260326T123416Z
LAST-MODIFIED:20260326T123416Z
UID:22390-1773273600-1777420799@mko.knihovna-orlova.cz
SUMMARY:Jeden den
DESCRIPTION:12. 3. 2026 až 28. 4. 2026\nJeden den\nmomenty z rané péče\nVýstava fotografií Miluše Pagáč\nVýstava zachycuje silné a autentické momenty ze života rodin\, které pečují o dítě se zrakovým postižením.\nNejde jen o fotografie – jsou to příběhy plné lásky\, odvahy\, únavy i naděje.\nNěkteré momenty jsou tiché\, jiné silné – všechny jsou skutečné.\n\n\nFotografie budou vystaveny v přednáškovém sále a ve studovně v 2. patře\nOtevírací doba: Po\, Út\, Čt\, Pá: 8:00 – 18:00 hodin\n                                                  St: zavřeno\nVstupné: zdarma\nInformace: 596 511 306\, prodejna@knihovna-orlova.cz
URL:https://mko.knihovna-orlova.cz/event/jeden-den/
LOCATION:Orlová
END:VEVENT
BEGIN:VEVENT
DTSTART;TZID=UTC+1:20260331T133000
DTEND;TZID=UTC+1:20260331T153000
DTSTAMP:20260419T175058
CREATED:20260113T133134Z
LAST-MODIFIED:20260113T133134Z
UID:22051-1774963800-1774971000@mko.knihovna-orlova.cz
SUMMARY:VU3V Arménie
DESCRIPTION:\n\n\n\n\n\n\n\n\n\n\n\n\n\n\n\n\n\n\n\n\n\n\n\n\n31. 3. 2026\n13:30 – 15:30 hodin\nVirtuální univerzita třetího věku\nLetní semestr\nTéma: Arménie blízká a vzdálená\nCelkem 6 přednášek: 3.2.\, 17.2.\, 3.3.\, 17.3.\, 31.3.\, 14.4.2026\nVýukový garant: doc. Ing. PhDr. Petr Kokaisl\, Ph.D.\, prof. h. c.\ndoc. PhDr. Petra Košťálová\, Ph.D.\n\n \tSeznamte se s Kavkazem -Geografie\, Stručné dějiny\, Obyvatelstvo a náboženství\n\n\n \tSeznamte se s Arménií – Geografie\, Historie\, Provázanost s antickým světem\, Křesťanství\n\n\n \tPutování arménského poutníka ze Lvova po Osmanské říši (1608 – 1618)\n \tPronásledování Arménů a arménská diaspora\n \tArméni a křesťanství – Arménská apoštolská církev\, Arménská katolická církev\, Asyrská církev\n\n\n \tNárodnostní menšiny v Arménii – Dřívější etnická pestrost\, Arménie – národní stát Arménů\, Jezídi\, Asyrijci\n\nPodmínky úspěšného absolvování kurzu: 70% docházka\, splnění testů\nCena kurzu ČR: 450 Kč student / semestr (cena po zahrnutí dotace)\nPořádá: Městská knihovna Orlová ve spolupráci s Českou zemědělskou univerzitou v Praze.\nPřihlášky jsou k dispozici v oddělení pro dospělé čtenáře.\nPřednáškový sál – Městská knihovna Orlová (2. patro).\nInformace: Bc. Pavla Gavelčíková\, 596 522 449\, katal@knihovna-orlova.cz\n\n\n\n\n\n\n\n\n\n\n\n\n\n\n\n\n\n\n\n\n\n\n\n\n
URL:https://mko.knihovna-orlova.cz/event/vu3v-armenie-5/
ORGANIZER;CN="M%C4%9Bstsk%C3%A1%20knihovna%20Orlov%C3%A1":MAILTO:detska.knihovna@knihovna-orlova.cz
END:VEVENT
BEGIN:VEVENT
DTSTART;TZID=UTC+1:20260331T153000
DTEND;TZID=UTC+1:20260331T173000
DTSTAMP:20260419T175058
CREATED:20260113T120906Z
LAST-MODIFIED:20260113T121121Z
UID:22027-1774971000-1774978200@mko.knihovna-orlova.cz
SUMMARY:VU3V Baroko
DESCRIPTION:\n\n\n\n\n\n\n\n\n\n\n\n\n\n\n\n\n\n\n\n\n\n\n\n\n31. 3. 2026\n15:30 – 17:30 hodin\nVirtuální univerzita třetího věku\nLetní semestr\nTéma: Barokní architektura v Čechách\nCelkem 6 přednášek: 3.2.\, 17.2.\, 3.3.\, 17.3.\, 31.3.\, 14.4.2026 \nVýukový garant: doc. Mgr. Martin Pavlíček\, Ph.D.\n\nPřednášky představují nejvýznamnější osobnosti barokní architektury\, jejichž realizace si můžeme prohlédnou v Čechách. Po úvodním představení barokního slohu\, jeho stylů a nejznámějších zástupců se budou přednášky postupně věnovat dílům Carla Luraga\, Jeana Baptisty Matheye\, Jan Blažeje – Santiniho a Kryštofa a Kiliána Ignáce Dientzenhoferových.\n\n \tBarokní architektura 17. a 18. století v Čechách: vývoj\, osobnosti\, styly\n \tCarlo Lurago a přísný styl raného baroka\n \tJean Baptiste Mathey a římský barokní klasicismus\n \tKryštof Dientzenhofer a skupina radikálních staveb kolem r. 1700\n \tJan Blažej Santini-Aichel a fenomén barokní gotiky\n \tKilián Ignác Dientzenhofer a bravurní variace pozdního baroka\n\nPodmínky úspěšného absolvování kurzu: 70% docházka\, splnění testů\nCena kurzu ČR: 450 Kč student / semestr (cena po zahrnutí dotace)\nPořádá: Městská knihovna Orlová ve spolupráci s Českou zemědělskou univerzitou v Praze.\nPřihlášky jsou k dispozici v oddělení pro dospělé čtenáře.\nPřednáškový sál – Městská knihovna Orlová (2. patro).\nInformace: Bc. Pavla Gavelčíková\, 596 522 449\, katal@knihovna-orlova.cz\n\n\n\n\n\n\n\n\n\n\n\n\n\n\n\n\n\n\n\n\n\n\n\n\n
URL:https://mko.knihovna-orlova.cz/event/vu3v-52/
LOCATION:Orlová
ORGANIZER;CN="M%C4%9Bstsk%C3%A1%20knihovna%20Orlov%C3%A1":MAILTO:detska.knihovna@knihovna-orlova.cz
END:VEVENT
BEGIN:VEVENT
DTSTART;VALUE=DATE:20260402
DTEND;VALUE=DATE:20260526
DTSTAMP:20260419T175058
CREATED:20260326T123513Z
LAST-MODIFIED:20260326T123513Z
UID:22392-1775088000-1779839999@mko.knihovna-orlova.cz
SUMMARY:Výstava obrazů
DESCRIPTION:2. 4. 2026 až 26. 5. 2026\nŠepot barev a stínů\nFrantišek Lukašák\nVýstava obrazů\nObrazy budou vystaveny v minigalerii na schodišti.\nOtevírací doba: Po\, Út\, Čt\, Pá: 8:00 – 18:00 hodin\n                                                 St: zavřeno\n                                                 So: 8:00 – 12:00 hodin\nVstupné: zdarma\nInformace: 596 511 306\, prodejna@knihovna-orlova.cz
URL:https://mko.knihovna-orlova.cz/event/vystava-obrazu/
END:VEVENT
BEGIN:VEVENT
DTSTART;TZID=UTC+1:20260402T090000
DTEND;TZID=UTC+1:20260402T120000
DTSTAMP:20260419T175058
CREATED:20260326T123631Z
LAST-MODIFIED:20260326T123631Z
UID:22394-1775120400-1775131200@mko.knihovna-orlova.cz
SUMMARY:Velikonoce v knihovně
DESCRIPTION:2. 4. 2026\n9:00 až 12:00 hodin\nVelikonoce v knihovně\nPřijďte si užít velikonoční dopoledne plné zábavy na dětském oddělení naší knihovny!\nČeká vás hledání velikonočních vajíček\, tvořivé dílničky a další veselé aktivity. Děti mohou přijít s rodiči\, ale vítány jsou i větší děti\, které dorazí samy.\nAkce je bez rezervace a bez věkového omezení\, stačí přijít a přidat se k velikonočnímu dovádění.\nVstupné: 50 Kč\nMěstská knihovna Orlová\, oddělení pro děti a mládež\nInformace: 596 522 449\, detska.knihovna@knihovna-orlova.cz
URL:https://mko.knihovna-orlova.cz/event/velikonoce-v-knihovne/
ORGANIZER;CN="M%C4%9Bstsk%C3%A1%20knihovna%20Orlov%C3%A1":MAILTO:detska.knihovna@knihovna-orlova.cz
END:VEVENT
BEGIN:VEVENT
DTSTART;TZID=UTC+1:20260407T090000
DTEND;TZID=UTC+1:20260407T103000
DTSTAMP:20260419T175058
CREATED:20260129T100235Z
LAST-MODIFIED:20260129T100235Z
UID:22156-1775552400-1775557800@mko.knihovna-orlova.cz
SUMMARY:Trénování paměti
DESCRIPTION:7. 4. 2026\n9:00 – 10:30 hodin\nTrénování paměti\nCvičení pro lepší paměť zábavnou formou!\nPřednáší PhDr. Mgr. Hana Vavříková\, PhD.\nKurzovné: 200 Kč/cyklus\nZápis možný do 24. 2. 2026 v oddělení pro dospělé čtenáře.\nOsobnější přístup s omezenou kapacitou max. 16 lid.\nŽivot Plus Senior – Městská knihovna Orlová (2. patro).\nInformace: studovna@knihovna-orlova.cz\, 596 522 449 
URL:https://mko.knihovna-orlova.cz/event/trenovani-pameti-78/
ORGANIZER;CN="M%C4%9Bstsk%C3%A1%20knihovna%20Orlov%C3%A1":MAILTO:detska.knihovna@knihovna-orlova.cz
END:VEVENT
BEGIN:VEVENT
DTSTART;TZID=UTC+1:20260407T160000
DTEND;TZID=UTC+1:20260407T180000
DTSTAMP:20260419T175058
CREATED:20260119T105658Z
LAST-MODIFIED:20260119T105658Z
UID:22103-1775577600-1775584800@mko.knihovna-orlova.cz
SUMMARY:A3V
DESCRIPTION:\n\n\n\n\n\n\n\n\n\n\n\n\n\n\n\n\n\n\n\n\n\n\n\n\n24. 2. 2026 až 5. 5. 2026\n16:00 – 18:00 hodin\nAkademie třetího věku\nLetní semestr 2026\nKomunikace\nPřednáší: Mgr. Dana Hrbáčová\n24. 02. 2026 – Komunikace může být hra – naučte se ji\n10. 03. 2026 – Komunikace s dospělými dětmi\n24. 03. 2026 – Komunikace s vnoučaty\n07. 04. 2026 – Konflikty a jejich zvládání\n21. 04. 2026 – Jak mluvit o svých potřebách\, emocích a zdraví\n05. 05. 2026 – Komunikace v partnerském vztahu ve vyšším věku\nMěstská knihovna Orlová ve spolupráci s Život senior plus\, pořádá letní semestr akademie třetího věku.\nStudium je určeno pro posluchače + 60 let.\nPřihlášky (do 31. 1. 2026 pouze pro stávající studenty\, od února pro ostatní zájemce) k vyzvednutí v 1. patře v oddělení pro dospělé čtenáře. Kapacita omezena.\nPřednáškový sál – Městská knihovna Orlová (2. patro).\nInformace: 596 522 449\, knihovna@knihovna-orlova.cz\n\n\n\n\n\n\n\n\n\n\n\n\n\n\n\n\n\n\n\n\n\n\n\n\n
URL:https://mko.knihovna-orlova.cz/event/a3v-40/
END:VEVENT
BEGIN:VEVENT
DTSTART;TZID=UTC+1:20260409T100000
DTEND;TZID=UTC+1:20260409T113000
DTSTAMP:20260419T175058
CREATED:20260326T125709Z
LAST-MODIFIED:20260326T125709Z
UID:22402-1775728800-1775734200@mko.knihovna-orlova.cz
SUMMARY:Kurz oční jógy
DESCRIPTION:9. 4. až 28. 5. 2026\nčtvrtky 10:00 hodin\nKurz oční jógy\noči v kondici\nZlepšování kondice zraku přirozenou cestou.\nHravou formou a v jemnosti si ukážeme\, jak můžete ovlivnit kondici vašeho zraku.\nUnavené oči berou energii\, uvolněný pohled ji vrací.\nPro koho je kurz určen? Pro všechny\, kdo tráví hodně času u obrazovek\, kdo cítí jakékoli nepohodlí (únavu\, pálení\, řezání) v očích nebo pro ty\, kdo chtějí zlepšit péči o svůj nejvytíženější smysl – zrak.\nKurz povede Mgr. Ing. Lucie Prošková – certifikovaná lektorka oční jógy a celostních metod přirozeného zlepšování kondice zraku. Farmaceutka a lektorka jógy smíchu.\nMinimálně 5 účastníků. Nutná rezervace v Městském informačním centru.\nKurzovné: 2390 Kč\nMěstská knihovna Orlová\, přednáškový sál (2. patro).\nInformace: prodejna@knihovna-orlova.cz\, 596 511 306
URL:https://mko.knihovna-orlova.cz/event/kurz-ocni-jogy/
ORGANIZER;CN="M%C4%9Bstsk%C3%A1%20knihovna%20Orlov%C3%A1":MAILTO:knihovna@knihovna-orlova.cz
END:VEVENT
BEGIN:VEVENT
DTSTART;TZID=UTC+1:20260409T170000
DTEND;TZID=UTC+1:20260409T190000
DTSTAMP:20260419T175058
CREATED:20260326T123718Z
LAST-MODIFIED:20260328T103419Z
UID:22396-1775754000-1775761200@mko.knihovna-orlova.cz
SUMMARY:Na dotek
DESCRIPTION:9. 4. 2026\n17:00 hodin\nNa dotek\nautorské čtení\nSetkání s Orlovačkou Lenkou Pastorčákovou autorka\, která se nebojí tnout do živého. Její psaní odhaluje zranitelnost\, sílu i bolest v místech\, kam se běžně nedíváme. Jak vznikají příběhy\, které bolí i léčí? Během tohoto setkání autorka poodkryje nejen pozadí příběhů\, které už napsala\, ale promluví i o těch\, které teprve tvoří.\nVstupné: 50 Kč\nMěstská knihovna Orlová\, přednáškový sál (2. patro).\nInformace: studovna@knihovna-orlova.cz\, 596 522 449 
URL:https://mko.knihovna-orlova.cz/event/na-dotek/
ORGANIZER;CN="M%C4%9Bstsk%C3%A1%20knihovna%20Orlov%C3%A1":MAILTO:detska.knihovna@knihovna-orlova.cz
END:VEVENT
BEGIN:VEVENT
DTSTART;TZID=UTC+1:20260413T160000
DTEND;TZID=UTC+1:20260413T173000
DTSTAMP:20260419T175058
CREATED:20260326T130826Z
LAST-MODIFIED:20260326T130826Z
UID:22418-1776096000-1776101400@mko.knihovna-orlova.cz
SUMMARY:Kurz oční jógy
DESCRIPTION:13. 4. až 1. 6. 2026\npondělky 16:00 hodin\nKurz oční jógy\noči v kondici\nZlepšování kondice zraku přirozenou cestou.\nHravou formou a v jemnosti si ukážeme\, jak můžete ovlivnit kondici vašeho zraku.\nUnavené oči berou energii\, uvolněný pohled ji vrací.\nPro koho je kurz určen? Pro všechny\, kdo tráví hodně času u obrazovek\, kdo cítí jakékoli nepohodlí (únavu\, pálení\, řezání) v očích nebo pro ty\, kdo chtějí zlepšit péči o svůj nejvytíženější smysl – zrak.\nKurz povede Mgr. Ing. Lucie Prošková – certifikovaná lektorka oční jógy a celostních metod přirozeného zlepšování kondice zraku. Farmaceutka a lektorka jógy smíchu.\nMinimálně 5 účastníků. Nutná rezervace v Městském informačním centru.\nKurzovné: 2390 Kč\nMěstská knihovna Orlová\, přednáškový sál (2. patro).\nInformace: prodejna@knihovna-orlova.cz\, 596 511 306
URL:https://mko.knihovna-orlova.cz/event/kurz-ocni-jogy-9/
END:VEVENT
BEGIN:VEVENT
DTSTART;TZID=UTC+1:20260414T090000
DTEND;TZID=UTC+1:20260414T110000
DTSTAMP:20260419T175058
CREATED:20260311T122050Z
LAST-MODIFIED:20260311T122050Z
UID:22313-1776157200-1776164400@mko.knihovna-orlova.cz
SUMMARY:Bezplatná právní poradna
DESCRIPTION:14. 4. 2026\n9:00 – 11:00 hodin\nBezplatná právní poradna\nPro seniory v Život Plus Senior.\nPouze v určených termínech.\nPo předchozí rezervaci v Městském informačním centru v přízemí knihovny.\nPři rezervaci nutno uhradit vratnou zálohu 100 Kč.\n1 schůzka 30 minut.                                  \nVstupné: zdarma\nMěstská knihovna Orlová\, studovna (2. patro).\nInformace: 596 511 306\, prodejna@knihovna-orlova.cz
URL:https://mko.knihovna-orlova.cz/event/bezplatna-pravni-poradna-13/
LOCATION:Masarykova 1324\, Orlová\, Moravskoslezský\, 73514\, Česká republika
END:VEVENT
BEGIN:VEVENT
DTSTART;TZID=UTC+1:20260414T133000
DTEND;TZID=UTC+1:20260414T153000
DTSTAMP:20260419T175058
CREATED:20260113T133242Z
LAST-MODIFIED:20260113T133242Z
UID:22053-1776173400-1776180600@mko.knihovna-orlova.cz
SUMMARY:VU3V Arménie
DESCRIPTION:\n\n\n\n\n\n\n\n\n\n\n\n\n\n\n\n\n\n\n\n\n\n\n\n\n14. 4. 2026\n13:30 – 15:30 hodin\nVirtuální univerzita třetího věku\nLetní semestr\nTéma: Arménie blízká a vzdálená\nCelkem 6 přednášek: 3.2.\, 17.2.\, 3.3.\, 17.3.\, 31.3.\, 14.4.2026\nVýukový garant: doc. Ing. PhDr. Petr Kokaisl\, Ph.D.\, prof. h. c.\ndoc. PhDr. Petra Košťálová\, Ph.D.\n\n \tSeznamte se s Kavkazem -Geografie\, Stručné dějiny\, Obyvatelstvo a náboženství\n\n\n \tSeznamte se s Arménií – Geografie\, Historie\, Provázanost s antickým světem\, Křesťanství\n\n\n \tPutování arménského poutníka ze Lvova po Osmanské říši (1608 – 1618)\n \tPronásledování Arménů a arménská diaspora\n \tArméni a křesťanství – Arménská apoštolská církev\, Arménská katolická církev\, Asyrská církev\n\n\n \tNárodnostní menšiny v Arménii – Dřívější etnická pestrost\, Arménie – národní stát Arménů\, Jezídi\, Asyrijci\n\nPodmínky úspěšného absolvování kurzu: 70% docházka\, splnění testů\nCena kurzu ČR: 450 Kč student / semestr (cena po zahrnutí dotace)\nPořádá: Městská knihovna Orlová ve spolupráci s Českou zemědělskou univerzitou v Praze.\nPřihlášky jsou k dispozici v oddělení pro dospělé čtenáře.\nPřednáškový sál – Městská knihovna Orlová (2. patro).\nInformace: Bc. Pavla Gavelčíková\, 596 522 449\, katal@knihovna-orlova.cz\n\n\n\n\n\n\n\n\n\n\n\n\n\n\n\n\n\n\n\n\n\n\n\n\n
URL:https://mko.knihovna-orlova.cz/event/vu3v-armenie-6/
LOCATION:Orlová
ORGANIZER;CN="M%C4%9Bstsk%C3%A1%20knihovna%20Orlov%C3%A1":MAILTO:knihovna@knihovna-orlova.cz
END:VEVENT
BEGIN:VEVENT
DTSTART;TZID=UTC+1:20260414T153000
DTEND;TZID=UTC+1:20260414T173000
DTSTAMP:20260419T175058
CREATED:20260113T121007Z
LAST-MODIFIED:20260113T121107Z
UID:22029-1776180600-1776187800@mko.knihovna-orlova.cz
SUMMARY:VU3V Baroko
DESCRIPTION:\n\n\n\n\n\n\n\n\n\n\n\n\n\n\n\n\n\n\n\n\n\n\n\n\n14. 4. 2026\n15:30 – 17:30 hodin\nVirtuální univerzita třetího věku\nLetní semestr\nTéma: Barokní architektura v Čechách\nCelkem 6 přednášek: 3.2.\, 17.2.\, 3.3.\, 17.3.\, 31.3.\, 14.4.2026 \nVýukový garant: doc. Mgr. Martin Pavlíček\, Ph.D.\n\nPřednášky představují nejvýznamnější osobnosti barokní architektury\, jejichž realizace si můžeme prohlédnou v Čechách. Po úvodním představení barokního slohu\, jeho stylů a nejznámějších zástupců se budou přednášky postupně věnovat dílům Carla Luraga\, Jeana Baptisty Matheye\, Jan Blažeje – Santiniho a Kryštofa a Kiliána Ignáce Dientzenhoferových.\n\n \tBarokní architektura 17. a 18. století v Čechách: vývoj\, osobnosti\, styly\n \tCarlo Lurago a přísný styl raného baroka\n \tJean Baptiste Mathey a římský barokní klasicismus\n \tKryštof Dientzenhofer a skupina radikálních staveb kolem r. 1700\n \tJan Blažej Santini-Aichel a fenomén barokní gotiky\n \tKilián Ignác Dientzenhofer a bravurní variace pozdního baroka\n\nPodmínky úspěšného absolvování kurzu: 70% docházka\, splnění testů\nCena kurzu ČR: 450 Kč student / semestr (cena po zahrnutí dotace)\nPořádá: Městská knihovna Orlová ve spolupráci s Českou zemědělskou univerzitou v Praze.\nPřihlášky jsou k dispozici v oddělení pro dospělé čtenáře.\nPřednáškový sál – Městská knihovna Orlová (2. patro).\nInformace: Bc. Pavla Gavelčíková\, 596 522 449\, katal@knihovna-orlova.cz\n\n\n\n\n\n\n\n\n\n\n\n\n\n\n\n\n\n\n\n\n\n\n\n\n
URL:https://mko.knihovna-orlova.cz/event/vu3v-53/
END:VEVENT
BEGIN:VEVENT
DTSTART;TZID=UTC+1:20260416T100000
DTEND;TZID=UTC+1:20260416T113000
DTSTAMP:20260419T175058
CREATED:20260326T125824Z
LAST-MODIFIED:20260326T125824Z
UID:22404-1776333600-1776339000@mko.knihovna-orlova.cz
SUMMARY:Kurz oční jógy
DESCRIPTION:9. 4. až 28. 5. 2026\nčtvrtky 10:00 hodin\nKurz oční jógy\noči v kondici\nZlepšování kondice zraku přirozenou cestou.\nHravou formou a v jemnosti si ukážeme\, jak můžete ovlivnit kondici vašeho zraku.\nUnavené oči berou energii\, uvolněný pohled ji vrací.\nPro koho je kurz určen? Pro všechny\, kdo tráví hodně času u obrazovek\, kdo cítí jakékoli nepohodlí (únavu\, pálení\, řezání) v očích nebo pro ty\, kdo chtějí zlepšit péči o svůj nejvytíženější smysl – zrak.\nKurz povede Mgr. Ing. Lucie Prošková – certifikovaná lektorka oční jógy a celostních metod přirozeného zlepšování kondice zraku. Farmaceutka a lektorka jógy smíchu.\nMinimálně 5 účastníků. Nutná rezervace v Městském informačním centru.\nKurzovné: 2390 Kč\nMěstská knihovna Orlová\, přednáškový sál (2. patro).\nInformace: prodejna@knihovna-orlova.cz\, 596 511 306
URL:https://mko.knihovna-orlova.cz/event/kurz-ocni-jogy-2/
END:VEVENT
BEGIN:VEVENT
DTSTART;TZID=UTC+1:20260420T093000
DTEND;TZID=UTC+1:20260420T110000
DTSTAMP:20260419T175058
CREATED:20260326T123835Z
LAST-MODIFIED:20260326T123835Z
UID:22398-1776677400-1776682800@mko.knihovna-orlova.cz
SUMMARY:Tvořivé dílny
DESCRIPTION: \n\n\n\n\n\n\n\n20. 4. 2026 \n9:30 hodin\nDruhý život knihy\nTvořivé dílny pro seniory\nVyrobíme si krásné květinové dekorace ze starých a vyřazených knih\, kterým tak dáme druhý život. Vyrobené květiny pro nás budou příslibem blížících se letních měsíců.\nPři práci si procvičíme jemnou motoriku\, přesnost\, pečlivost\, povíme si něco o recyklaci materiálů\, a co je to nyní módní upcyklace. Jako zajímavost si můžeme popovídat o knihách a jejich roli v historii lidstva. Jak vlastně dneska vznikají knihy a jak je možné na knihách provést drobné úpravy i doma.\nKaždý z účastníků si odnese pěknou dekoraci vyrobenou ze starých knih. (věnec\, kytici\, závěs do okna apod.\nMaximálně 15 účastníků. Nutná rezervace v Městském informačním centru.\nVstupné: 50 Kč\nUrčeno pro seniory + 60 let.\nMěstská knihovna Orlová\, Život plus senior\, (2. patro)\nprodejna@knihovna-orlova.cz\, 596 511 306\n\n\n\n\n\n\n
URL:https://mko.knihovna-orlova.cz/event/tvorive-dilny-7/
END:VEVENT
BEGIN:VEVENT
DTSTART;TZID=UTC+1:20260420T160000
DTEND;TZID=UTC+1:20260420T173000
DTSTAMP:20260419T175058
CREATED:20260326T130913Z
LAST-MODIFIED:20260326T130913Z
UID:22420-1776700800-1776706200@mko.knihovna-orlova.cz
SUMMARY:Kurz oční jógy
DESCRIPTION:13. 4. až 1. 6. 2026\npondělky 16:00 hodin\nKurz oční jógy\noči v kondici\nZlepšování kondice zraku přirozenou cestou.\nHravou formou a v jemnosti si ukážeme\, jak můžete ovlivnit kondici vašeho zraku.\nUnavené oči berou energii\, uvolněný pohled ji vrací.\nPro koho je kurz určen? Pro všechny\, kdo tráví hodně času u obrazovek\, kdo cítí jakékoli nepohodlí (únavu\, pálení\, řezání) v očích nebo pro ty\, kdo chtějí zlepšit péči o svůj nejvytíženější smysl – zrak.\nKurz povede Mgr. Ing. Lucie Prošková – certifikovaná lektorka oční jógy a celostních metod přirozeného zlepšování kondice zraku. Farmaceutka a lektorka jógy smíchu.\nMinimálně 5 účastníků. Nutná rezervace v Městském informačním centru.\nKurzovné: 2390 Kč\nMěstská knihovna Orlová\, přednáškový sál (2. patro).\nInformace: prodejna@knihovna-orlova.cz\, 596 511 306
URL:https://mko.knihovna-orlova.cz/event/kurz-ocni-jogy-10/
LOCATION:Orlová
END:VEVENT
BEGIN:VEVENT
DTSTART;TZID=UTC+1:20260421T090000
DTEND;TZID=UTC+1:20260421T103000
DTSTAMP:20260419T175058
CREATED:20260129T100352Z
LAST-MODIFIED:20260129T100352Z
UID:22158-1776762000-1776767400@mko.knihovna-orlova.cz
SUMMARY:Trénování paměti
DESCRIPTION:21. 4. 2026\n9:00 – 10:30 hodin\nTrénování paměti\nCvičení pro lepší paměť zábavnou formou!\nPřednáší PhDr. Mgr. Hana Vavříková\, PhD.\nKurzovné: 200 Kč/cyklus\nZápis možný do 24. 2. 2026 v oddělení pro dospělé čtenáře.\nOsobnější přístup s omezenou kapacitou max. 16 lid.\nŽivot Plus Senior – Městská knihovna Orlová (2. patro).\nInformace: studovna@knihovna-orlova.cz\, 596 522 449 
URL:https://mko.knihovna-orlova.cz/event/trenovani-pameti-79/
END:VEVENT
BEGIN:VEVENT
DTSTART;TZID=UTC+1:20260421T160000
DTEND;TZID=UTC+1:20260421T180000
DTSTAMP:20260419T175058
CREATED:20260119T105759Z
LAST-MODIFIED:20260402T115401Z
UID:22105-1776787200-1776794400@mko.knihovna-orlova.cz
SUMMARY:A3V
DESCRIPTION:\n\n\n\n\n\n\n\n\n\n\n\n\n\n\n\n\n\n\n\n\n\n\n\n\n24. 2. 2026 až 5. 5. 2026\n16:00 – 18:00 hodin\nAkademie třetího věku\nLetní semestr 2026\nKomunikace\nPřednáší: Mgr. Dana Hrbáčová\n24. 02. 2026 – Komunikace může být hra – naučte se ji\n10. 03. 2026 – Komunikace s dospělými dětmi\n24. 03. 2026 – Komunikace s vnoučaty\n07. 04. 2026 – Konflikty a jejich zvládání\n21. 04. 2026 – Jak mluvit o svých potřebách\, emocích a zdraví – změna termínu! Přesunuto na 28.4.2026.\n05. 05. 2026 – Komunikace v partnerském vztahu ve vyšším věku\nMěstská knihovna Orlová ve spolupráci s Život senior plus\, pořádá letní semestr akademie třetího věku.\nStudium je určeno pro posluchače + 60 let.\nPřihlášky (do 31. 1. 2026 pouze pro stávající studenty\, od února pro ostatní zájemce) k vyzvednutí v 1. patře v oddělení pro dospělé čtenáře. Kapacita omezena.\nPřednáškový sál – Městská knihovna Orlová (2. patro).\nInformace: 596 522 449\, knihovna@knihovna-orlova.cz\n\n\n\n\n\n\n\n\n\n\n\n\n\n\n\n\n\n\n\n\n\n\n\n\n
URL:https://mko.knihovna-orlova.cz/event/a3v-41/
END:VEVENT
BEGIN:VEVENT
DTSTART;TZID=UTC+1:20260423T100000
DTEND;TZID=UTC+1:20260423T113000
DTSTAMP:20260419T175058
CREATED:20260326T130008Z
LAST-MODIFIED:20260326T130008Z
UID:22406-1776938400-1776943800@mko.knihovna-orlova.cz
SUMMARY:Kurz oční jógy
DESCRIPTION:9. 4. až 28. 5. 2026\nčtvrtky 10:00 hodin\nKurz oční jógy\noči v kondici\nZlepšování kondice zraku přirozenou cestou.\nHravou formou a v jemnosti si ukážeme\, jak můžete ovlivnit kondici vašeho zraku.\nUnavené oči berou energii\, uvolněný pohled ji vrací.\nPro koho je kurz určen? Pro všechny\, kdo tráví hodně času u obrazovek\, kdo cítí jakékoli nepohodlí (únavu\, pálení\, řezání) v očích nebo pro ty\, kdo chtějí zlepšit péči o svůj nejvytíženější smysl – zrak.\nKurz povede Mgr. Ing. Lucie Prošková – certifikovaná lektorka oční jógy a celostních metod přirozeného zlepšování kondice zraku. Farmaceutka a lektorka jógy smíchu.\nMinimálně 5 účastníků. Nutná rezervace v Městském informačním centru.\nKurzovné: 2390 Kč\nMěstská knihovna Orlová\, přednáškový sál (2. patro).\nInformace: prodejna@knihovna-orlova.cz\, 596 511 306
URL:https://mko.knihovna-orlova.cz/event/kurz-ocni-jogy-3/
ORGANIZER;CN="M%C4%9Bstsk%C3%A1%20knihovna%20Orlov%C3%A1":MAILTO:detska.knihovna@knihovna-orlova.cz
END:VEVENT
BEGIN:VEVENT
DTSTART;TZID=UTC+1:20260423T160000
DTEND;TZID=UTC+1:20260423T170000
DTSTAMP:20260419T175058
CREATED:20260311T122441Z
LAST-MODIFIED:20260311T122441Z
UID:22318-1776960000-1776963600@mko.knihovna-orlova.cz
SUMMARY:Setkání pisálků
DESCRIPTION:23. 4. 2026\n16:00 hodin\nSetkání pisálků\nSrdečně Vás zveme na sraz orlovských pisálků. Setkání povede autorka Hana Nivnická.\nUrčeno pro všechny věkové kategorie.\nVstupné: zdarma\nMěstská knihovna Orlová (2. patro)\nInformace: 596 522 449\, knihovna@knihovna-orlova.cz
URL:https://mko.knihovna-orlova.cz/event/setkani-pisalku-49/
LOCATION:Masarykova 1324\, Orlová\, Moravskoslezský\, 73514\, Česká republika
ORGANIZER;CN="M%C4%9Bstsk%C3%A1%20knihovna%20Orlov%C3%A1":MAILTO:detska.knihovna@knihovna-orlova.cz
END:VEVENT
BEGIN:VEVENT
DTSTART;TZID=UTC+1:20260427T090000
DTEND;TZID=UTC+1:20260427T120000
DTSTAMP:20260419T175058
CREATED:20260326T124252Z
LAST-MODIFIED:20260326T124252Z
UID:22400-1777280400-1777291200@mko.knihovna-orlova.cz
SUMMARY:Tvoření – pro maminky s dětmi
DESCRIPTION: \n\n\n\n\n\n\n\n27. 4. 2026\n9:00 až 12:00 hodin\nTvoření – pro maminky s dětmi\nPřijít mohou maminky s těmi nejmenšími i s většími dětmi. Společně si užijeme pohodové dopoledne plné tvoření\, zábavy a sdílených chvilek. Budeme tvořit jednoduché výrobky z papíru\, děti si mohou také malovat a vybarvovat obrázky. Nebude chybět ani krátké čtení pohádky a na závěr si zahrajeme i malou pohybovou hru\, aby se děti pěkně protáhly.\nVstupné: 50 Kč\nMěstská knihovna Orlová\, oddělení pro děti a mládež\nInformace: 596 522 449\, detska.knihovna@knihovna-orlova.cz\n\n\n\n\n\n\n
URL:https://mko.knihovna-orlova.cz/event/tvoreni-pro-maminky-s-detmi/
END:VEVENT
BEGIN:VEVENT
DTSTART;TZID=UTC+1:20260427T160000
DTEND;TZID=UTC+1:20260427T173000
DTSTAMP:20260419T175058
CREATED:20260326T130944Z
LAST-MODIFIED:20260326T130944Z
UID:22422-1777305600-1777311000@mko.knihovna-orlova.cz
SUMMARY:Kurz oční jógy
DESCRIPTION:13. 4. až 1. 6. 2026\npondělky 16:00 hodin\nKurz oční jógy\noči v kondici\nZlepšování kondice zraku přirozenou cestou.\nHravou formou a v jemnosti si ukážeme\, jak můžete ovlivnit kondici vašeho zraku.\nUnavené oči berou energii\, uvolněný pohled ji vrací.\nPro koho je kurz určen? Pro všechny\, kdo tráví hodně času u obrazovek\, kdo cítí jakékoli nepohodlí (únavu\, pálení\, řezání) v očích nebo pro ty\, kdo chtějí zlepšit péči o svůj nejvytíženější smysl – zrak.\nKurz povede Mgr. Ing. Lucie Prošková – certifikovaná lektorka oční jógy a celostních metod přirozeného zlepšování kondice zraku. Farmaceutka a lektorka jógy smíchu.\nMinimálně 5 účastníků. Nutná rezervace v Městském informačním centru.\nKurzovné: 2390 Kč\nMěstská knihovna Orlová\, přednáškový sál (2. patro).\nInformace: prodejna@knihovna-orlova.cz\, 596 511 306
URL:https://mko.knihovna-orlova.cz/event/kurz-ocni-jogy-11/
LOCATION:Orlová
ORGANIZER;CN="M%C4%9Bstsk%C3%A1%20knihovna%20Orlov%C3%A1":MAILTO:detska.knihovna@knihovna-orlova.cz
END:VEVENT
BEGIN:VEVENT
DTSTART;TZID=UTC+1:20260430T100000
DTEND;TZID=UTC+1:20260430T113000
DTSTAMP:20260419T175058
CREATED:20260326T130134Z
LAST-MODIFIED:20260326T130134Z
UID:22408-1777543200-1777548600@mko.knihovna-orlova.cz
SUMMARY:Kurz oční jógy
DESCRIPTION:9. 4. až 28. 5. 2026\nčtvrtky 10:00 hodin\nKurz oční jógy\noči v kondici\nZlepšování kondice zraku přirozenou cestou.\nHravou formou a v jemnosti si ukážeme\, jak můžete ovlivnit kondici vašeho zraku.\nUnavené oči berou energii\, uvolněný pohled ji vrací.\nPro koho je kurz určen? Pro všechny\, kdo tráví hodně času u obrazovek\, kdo cítí jakékoli nepohodlí (únavu\, pálení\, řezání) v očích nebo pro ty\, kdo chtějí zlepšit péči o svůj nejvytíženější smysl – zrak.\nKurz povede Mgr. Ing. Lucie Prošková – certifikovaná lektorka oční jógy a celostních metod přirozeného zlepšování kondice zraku. Farmaceutka a lektorka jógy smíchu.\nMinimálně 5 účastníků. Nutná rezervace v Městském informačním centru.\nKurzovné: 2390 Kč\nMěstská knihovna Orlová\, přednáškový sál (2. patro).\nInformace: prodejna@knihovna-orlova.cz\, 596 511 306
URL:https://mko.knihovna-orlova.cz/event/kurz-ocni-jogy-4/
ORGANIZER;CN="M%C4%9Bstsk%C3%A1%20knihovna%20Orlov%C3%A1":MAILTO:detska.knihovna@knihovna-orlova.cz
END:VEVENT
END:VCALENDAR